BEGIN:VCALENDAR
VERSION:2.0
PRODID:-//Workforce Solutions Greater Dallas - ECPv6.15.17.1//NONSGML v1.0//EN
CALSCALE:GREGORIAN
METHOD:PUBLISH
X-WR-CALNAME:Workforce Solutions Greater Dallas
X-ORIGINAL-URL:https://www.wfsdallas.com
X-WR-CALDESC:Events for Workforce Solutions Greater Dallas
REFRESH-INTERVAL;VALUE=DURATION:PT1H
X-Robots-Tag:noindex
X-PUBLISHED-TTL:PT1H
BEGIN:VTIMEZONE
TZID:UTC
BEGIN:STANDARD
TZOFFSETFROM:+0000
TZOFFSETTO:+0000
TZNAME:UTC
DTSTART:20250101T000000
END:STANDARD
END:VTIMEZONE
BEGIN:VEVENT
DTSTART;TZID=UTC:20260420T083000
DTEND;TZID=UTC:20260420T123000
DTSTAMP:20260420T131946
CREATED:20241004T152357Z
LAST-MODIFIED:20241004T152357Z
UID:10017561-1776673800-1776688200@www.wfsdallas.com
SUMMARY:SNAP EPS Orientation
DESCRIPTION:The SNAP EPS (Employment and Parenting Services) Orientation Workshop is designed for individuals receiving Supplemental Nutrition Assistance Program (SNAP) benefits\, providing them with valuable resources to gain employment and achieve financial independence. \nThis session introduces participants to the wide range of services available\, including job search assistance\, skills training\, and support for balancing work with parenting responsibilities. \nParticipants will also learn about the eligibility requirements\, enrollment process\, and the personalized support available through SNAP to help them create a clear path toward sustainable employment and long-term self-sufficiency. \nNotice: All Participants Must Register @ www.workintexas.com Prior To Attending Seminars. \nAll workshop times and dates are subject to change.
URL:https://www.wfsdallas.com/event/snap-eps-orientation-10/2026-04-20/
LOCATION:Greenville Workforce Center\, 6500 Greenville Ave.\, Ste. 250\, Dallas\, TX\, 75206
CATEGORIES:Workshops
ATTACH;FMTTYPE=image/jpeg:https://www.wfsdallas.com/wp-content/uploads/WFSDallas-Workshops.jpg
END:VEVENT
BEGIN:VEVENT
DTSTART;TZID=UTC:20260420T090000
DTEND;TZID=UTC:20260420T110000
DTSTAMP:20260420T131946
CREATED:20241004T152030Z
LAST-MODIFIED:20241004T152030Z
UID:10016505-1776675600-1776682800@www.wfsdallas.com
SUMMARY:SNAP EPS Orientation
DESCRIPTION:The SNAP EPS (Employment and Parenting Services) Orientation Workshop is designed for individuals receiving Supplemental Nutrition Assistance Program (SNAP) benefits\, providing them with valuable resources to gain employment and achieve financial independence. \nThis session introduces participants to the wide range of services available\, including job search assistance\, skills training\, and support for balancing work with parenting responsibilities. \nParticipants will also learn about the eligibility requirements\, enrollment process\, and the personalized support available through SNAP to help them create a clear path toward sustainable employment and long-term self-sufficiency. \nNotice: All Participants Must Register @ www.workintexas.com Prior To Attending Seminars. \nAll workshop times and dates are subject to change.
URL:https://www.wfsdallas.com/event/snap-eps-orientation-9/2026-04-20/
LOCATION:International District Workforce Center\, 5757 Alpha Road Suite 800\, Dallas\, TX\, 75240
CATEGORIES:Workshops
ATTACH;FMTTYPE=image/jpeg:https://www.wfsdallas.com/wp-content/uploads/WFSDallas-Workshops.jpg
END:VEVENT
BEGIN:VEVENT
DTSTART;TZID=UTC:20260420T100000
DTEND;TZID=UTC:20260420T110000
DTSTAMP:20260420T131946
CREATED:20241004T152926Z
LAST-MODIFIED:20241004T152926Z
UID:10019155-1776679200-1776682800@www.wfsdallas.com
SUMMARY:SNAP EPS Orientation
DESCRIPTION:The SNAP EPS (Employment and Parenting Services) Orientation Workshop is designed for individuals receiving Supplemental Nutrition Assistance Program (SNAP) benefits\, providing them with valuable resources to gain employment and achieve financial independence. \nThis session introduces participants to the wide range of services available\, including job search assistance\, skills training\, and support for balancing work with parenting responsibilities. \nParticipants will also learn about the eligibility requirements\, enrollment process\, and the personalized support available through SNAP to help them create a clear path toward sustainable employment and long-term self-sufficiency. \nNotice: All Participants Must Register @ www.workintexas.com Prior To Attending Seminars. \nAll workshop times and dates are subject to change.
URL:https://www.wfsdallas.com/event/snap-eps-orientation-11/2026-04-20/
LOCATION:Garland Workforce Center\, 530 Clara Barton Blvd.\, Suite 270\, Garland\, Texas\, 75042
CATEGORIES:Workshops
ATTACH;FMTTYPE=image/jpeg:https://www.wfsdallas.com/wp-content/uploads/WFSDallas-Workshops.jpg
END:VEVENT
BEGIN:VEVENT
DTSTART;TZID=UTC:20260420T124500
DTEND;TZID=UTC:20260420T140000
DTSTAMP:20260420T131946
CREATED:20250701T155801Z
LAST-MODIFIED:20250701T155829Z
UID:10038372-1776689100-1776693600@www.wfsdallas.com
SUMMARY:WIOA Orientation
DESCRIPTION:The WIOA (Workforce Innovation and Opportunity Act) Orientation Workshop provides participants with an overview of the services and benefits available through the WIOA program. \nThis session will guide job seekers through the eligibility requirements\, enrollment process\, and the variety of training and employment services offered to enhance career prospects. \nParticipants will learn how WIOA can support their career goals through job placement assistance\, skills training\, and access to educational resources. \nAdditionally\, the workshop will cover essential steps for developing an individualized employment plan\, identifying in-demand careers\, and receiving ongoing support throughout the program. \nNotice: All Participants Must Register @ www.workintexas.com Prior To Attending Seminars. All workshop times and dates are subject to change.
URL:https://www.wfsdallas.com/event/wioa-orientation-16-2-2/2026-04-20/
LOCATION:Grand Prairie Workforce Center\, 801 State Highway 161 #500\, Grand Prairie\, TX\, 75051\, United States
CATEGORIES:Grand Prairie Workforce Center,Workshops
ATTACH;FMTTYPE=image/jpeg:https://www.wfsdallas.com/wp-content/uploads/WFSDallas-Workshops-1.jpg
END:VEVENT
BEGIN:VEVENT
DTSTART;TZID=UTC:20260420T143000
DTEND;TZID=UTC:20260420T153000
DTSTAMP:20260420T131946
CREATED:20250528T135848Z
LAST-MODIFIED:20250529T151549Z
UID:10019433-1776695400-1776699000@www.wfsdallas.com
SUMMARY:R.I.S.E - Say It In Writing (Resume Skills)
DESCRIPTION:The R.I.S.E. (Reinvent\, Innovate\, Succeed\, Empower) – Say It In Writing (Resume Skills) Workshop is designed to help participants create resumes that stand out in today’s competitive job market. \nThis session focuses on developing strong\, targeted resumes by highlighting key accomplishments\, skills\, and experience that align with specific job opportunities. \nParticipants will learn how to craft concise and impactful summaries\, structure their resumes for maximum visibility\, and use industry-relevant keywords to pass applicant tracking systems (ATS). \nThe workshop also covers tips for tailoring resumes to individual job postings\, ensuring clarity\, professionalism\, and the best chance for success. \nNotice: All Participants Must Register @ www.workintexas.com Prior To Attending Seminars. \nAll workshop times and dates are subject to change.
URL:https://www.wfsdallas.com/event/r-i-s-e-say-it-in-writing-resume-skills-7-2-2-2/2026-04-20/
LOCATION:Pleasant Grove Workforce Center\, 1125 South Buckner Boulevard\, Dallas\, TX\, 75217
CATEGORIES:Pleasant Grove Workforce Center,Workshops
ATTACH;FMTTYPE=image/png:https://www.wfsdallas.com/wp-content/uploads/WFSDallas-Workshop-Rise.png
END:VEVENT
END:VCALENDAR