BEGIN:VCALENDAR
VERSION:2.0
PRODID:-//Workforce Solutions Greater Dallas - ECPv6.15.17.1//NONSGML v1.0//EN
CALSCALE:GREGORIAN
METHOD:PUBLISH
X-ORIGINAL-URL:https://www.wfsdallas.com
X-WR-CALDESC:Events for Workforce Solutions Greater Dallas
REFRESH-INTERVAL;VALUE=DURATION:PT1H
X-Robots-Tag:noindex
X-PUBLISHED-TTL:PT1H
BEGIN:VTIMEZONE
TZID:UTC
BEGIN:STANDARD
TZOFFSETFROM:+0000
TZOFFSETTO:+0000
TZNAME:UTC
DTSTART:20240101T000000
END:STANDARD
END:VTIMEZONE
BEGIN:VEVENT
DTSTART;TZID=UTC:20250425T090000
DTEND;TZID=UTC:20250425T120000
DTSTAMP:20260422T091427
CREATED:20250410T220206Z
LAST-MODIFIED:20250410T220206Z
UID:10032190-1745571600-1745582400@www.wfsdallas.com
SUMMARY:DFW Apprenticeship Accelerator
DESCRIPTION:Build Talent. Boost Retention. Create Opportunity\nThis interactive morning session is designed to help employers launch and grow Registered Apprenticeship Programs (RAPs) that strengthen the workforce and expand access to career opportunities. You’ll connect with industry leaders\, workforce partners\, and training providers to explore how apprenticeships can: \n\nSolve talent shortages\nImprove employee retention\nBuild equitable\, high-quality career pathways\n\nWhether you’re brand new to apprenticeships or ready to scale your program\, this event will give you the tools\, insights\, and partnerships you need. \nDate: Friday\, April 25\, 2025\nTime: 9:00 AM – 12:00 PM\nLocation: Communities Foundation of Texas\n5500 Caruth Haven Ln.\, Dallas\, TX 75225 \nRegister Here!
URL:https://www.wfsdallas.com/event/dfw-apprenticeship-accelerator-3/
LOCATION:Communities Foundation of Texas\, 5500 Caruth Haven Ln\, Dallas\, TX\, 75225\, United States
CATEGORIES:Employer Events
ATTACH;FMTTYPE=image/png:https://www.wfsdallas.com/wp-content/uploads/DFW-Apprenticeship-Accelerator-April-2025-2.png
END:VEVENT
END:VCALENDAR