BEGIN:VCALENDAR
VERSION:2.0
PRODID:-//Workforce Solutions Greater Dallas - ECPv6.15.17.1//NONSGML v1.0//EN
CALSCALE:GREGORIAN
METHOD:PUBLISH
X-ORIGINAL-URL:https://www.wfsdallas.com
X-WR-CALDESC:Events for Workforce Solutions Greater Dallas
REFRESH-INTERVAL;VALUE=DURATION:PT1H
X-Robots-Tag:noindex
X-PUBLISHED-TTL:PT1H
BEGIN:VTIMEZONE
TZID:UTC
BEGIN:STANDARD
TZOFFSETFROM:+0000
TZOFFSETTO:+0000
TZNAME:UTC
DTSTART:20250101T000000
END:STANDARD
END:VTIMEZONE
BEGIN:VEVENT
DTSTART;TZID=UTC:20260423T143000
DTEND;TZID=UTC:20260423T153000
DTSTAMP:20260423T033658
CREATED:20250701T194047Z
LAST-MODIFIED:20250701T194314Z
UID:10005706-1776954600-1776958200@www.wfsdallas.com
SUMMARY:Mastering Work In Texas - In Person
DESCRIPTION:The Mastering Work In Texas Workshop is designed to provide participants with a comprehensive understanding of the state’s official job-matching platform\, WorkInTexas.com. \nDuring this session\, job seekers will learn how to create compelling profiles\, utilize job search tools\, and connect with potential employers. \nEmployers will be guided through the process of posting job openings\, searching for qualified candidates\, and leveraging the platform’s resources to meet their workforce needs. \nThe workshop also covers best practices for improving job matches\, utilizing the platform’s filtering options\, and ensuring an optimal experience for both employers and job seekers. \nParticipants will leave the workshop with actionable knowledge on how to navigate the platform efficiently\, optimize their profiles or job postings\, and effectively use Work In Texas to achieve their employment or hiring goals. \nNotice: All Participants Must Register @ www.workintexas.com Prior To Attending Seminars. \nAll workshop times and dates are subject to change.
URL:https://www.wfsdallas.com/event/mastering-work-in-texas-7-2-2/2026-04-23/
LOCATION:Greenville Workforce Center\, 6500 Greenville Ave.\, Ste. 250\, Dallas\, TX\, 75206
CATEGORIES:Greenville Avenue Workforce Center,Workshops
ATTACH;FMTTYPE=image/jpeg:https://www.wfsdallas.com/wp-content/uploads/WFSDallas-Workshops-5.jpg
END:VEVENT
BEGIN:VEVENT
DTSTART;TZID=UTC:20260424T100000
DTEND;TZID=UTC:20260424T110000
DTSTAMP:20260423T033658
CREATED:20250701T202523Z
LAST-MODIFIED:20250701T202538Z
UID:10021650-1777024800-1777028400@www.wfsdallas.com
SUMMARY:R.I.S.E. - Reinvent Yourself (In Person)
DESCRIPTION:The R.I.S.E. (Reinvent\, Innovate\, Succeed\, Empower) – Reinvent Yourself Workshop is designed to empower participants who are looking to make a career change or revitalize their professional journey. \nThis session offers practical strategies for personal and professional reinvention\, focusing on identifying transferable skills\, building confidence\, and aligning career goals with current market trends. \nParticipants will gain insights into how to innovate within their chosen field\, overcome challenges\, and create opportunities for success. \nThe workshop also covers tools and resources for continuous self-improvement\, helping individuals navigate their next career steps with purpose and clarity. \nNotice: All Participants Must Register @ www.workintexas.com Prior To Attending Seminars. All workshop times and dates are subject to change.
URL:https://www.wfsdallas.com/event/r-i-s-e-reinvent-yourself-in-person-7-2/2026-04-24/
LOCATION:Greenville Workforce Center\, 6500 Greenville Ave.\, Ste. 250\, Dallas\, TX\, 75206
CATEGORIES:Greenville Avenue Workforce Center,Workshops
ATTACH;FMTTYPE=image/jpeg:https://www.wfsdallas.com/wp-content/uploads/WFSDallas-Workshops-R.I.S.E-Reinvent-Yourself.jpg
END:VEVENT
BEGIN:VEVENT
DTSTART;TZID=UTC:20260428T140000
DTEND;TZID=UTC:20260428T150000
DTSTAMP:20260423T033658
CREATED:20250528T143457Z
LAST-MODIFIED:20250528T143533Z
UID:10033819-1777384800-1777388400@www.wfsdallas.com
SUMMARY:WIOA Orientation
DESCRIPTION:The WIOA (Workforce Innovation and Opportunity Act) Orientation Workshop provides participants with an overview of the services and benefits available through the WIOA program. \nThis session will guide job seekers through the eligibility requirements\, enrollment process\, and the variety of training and employment services offered to enhance career prospects. \nParticipants will learn how WIOA can support their career goals through job placement assistance\, skills training\, and access to educational resources. \nAdditionally\, the workshop will cover essential steps for developing an individualized employment plan\, identifying in-demand careers\, and receiving ongoing support throughout the program. \nNotice: All Participants Must Register @ www.workintexas.com Prior To Attending Seminars. All workshop times and dates are subject to change.
URL:https://www.wfsdallas.com/event/wioa-orientation-17/2026-04-28/
LOCATION:Greenville Workforce Center\, 6500 Greenville Ave.\, Ste. 250\, Dallas\, TX\, 75206
CATEGORIES:Greenville Avenue Workforce Center,Pleasant Grove Workforce Center,Workshops
ATTACH;FMTTYPE=image/jpeg:https://www.wfsdallas.com/wp-content/uploads/WFSDallas-Workshops-1.jpg
END:VEVENT
BEGIN:VEVENT
DTSTART;TZID=UTC:20260429T143000
DTEND;TZID=UTC:20260429T153000
DTSTAMP:20260423T033658
CREATED:20250626T181831Z
LAST-MODIFIED:20251104T195725Z
UID:10027082-1777473000-1777476600@www.wfsdallas.com
SUMMARY:R.I.S.E - Say It In Writing (Resume Skills)
DESCRIPTION:The R.I.S.E. (Reinvent\, Innovate\, Succeed\, Empower) – Say It In Writing (Resume Skills) Workshop is designed to help participants create resumes that stand out in today’s competitive job market. \nThis session focuses on developing strong\, targeted resumes by highlighting key accomplishments\, skills\, and experience that align with specific job opportunities. \nParticipants will learn how to craft concise and impactful summaries\, structure their resumes for maximum visibility\, and use industry-relevant keywords to pass applicant tracking systems (ATS). \nThe workshop also covers tips for tailoring resumes to individual job postings\, ensuring clarity\, professionalism\, and the best chance for success. \nNotice: All Participants Must Register @ www.workintexas.com Prior To Attending Seminars. \nAll workshop times and dates are subject to change.
URL:https://www.wfsdallas.com/event/r-i-s-e-say-it-in-writing-resume-skills-virtual-2-2/2026-04-29/
LOCATION:Greenville Workforce Center\, 6500 Greenville Ave.\, Ste. 250\, Dallas\, TX\, 75206
CATEGORIES:Greenville Avenue Workforce Center,Workshops
ATTACH;FMTTYPE=image/jpeg:https://www.wfsdallas.com/wp-content/uploads/WFSDallas-Workshops-R.I.S.E.-Say-It-In-Writing-Resume-Skills.jpg
END:VEVENT
BEGIN:VEVENT
DTSTART;TZID=UTC:20260429T153000
DTEND;TZID=UTC:20260429T163000
DTSTAMP:20260423T033658
CREATED:20250626T184635Z
LAST-MODIFIED:20250626T184651Z
UID:10027343-1777476600-1777480200@www.wfsdallas.com
SUMMARY:R.I.S.E. - Get Ready\, Get Hired (Interviewing) In Person
DESCRIPTION:The R.I.S.E. (Reinvent\, Innovate\, Succeed\, Empower) – Get Ready\, Get Hired (Interviewing) Workshop is designed to equip job seekers with the skills and confidence needed to ace their job interviews. \nThis session covers key aspects of the interview process\, including how to prepare effectively\, answer common and challenging questions\, and showcase your strengths. \nParticipants will also learn strategies for making a positive first impression\, handling difficult questions\, and following up after the interview. \nThe workshop emphasizes both in-person and virtual interview techniques\, ensuring job seekers are ready for any interview format. \nNotice: All Participants Must Register @ www.workintexas.com Prior To Attending Seminars. \nAll workshop times and dates are subject to change.
URL:https://www.wfsdallas.com/event/r-i-s-e-get-ready-get-hired-interviewing-3-2-2-2-2/2026-04-29/
LOCATION:Greenville Workforce Center\, 6500 Greenville Ave.\, Ste. 250\, Dallas\, TX\, 75206
CATEGORIES:Greenville Avenue Workforce Center,Workshops
ATTACH;FMTTYPE=image/jpeg:https://www.wfsdallas.com/wp-content/uploads/WFSDallas-Workshops-Virtual-R.I.S.E.-Get-Ready-Get-Hired-Interviewing-Fundamentals.jpg
END:VEVENT
BEGIN:VEVENT
DTSTART;TZID=UTC:20260430T143000
DTEND;TZID=UTC:20260430T153000
DTSTAMP:20260423T033658
CREATED:20250701T194047Z
LAST-MODIFIED:20250701T194314Z
UID:10005707-1777559400-1777563000@www.wfsdallas.com
SUMMARY:Mastering Work In Texas - In Person
DESCRIPTION:The Mastering Work In Texas Workshop is designed to provide participants with a comprehensive understanding of the state’s official job-matching platform\, WorkInTexas.com. \nDuring this session\, job seekers will learn how to create compelling profiles\, utilize job search tools\, and connect with potential employers. \nEmployers will be guided through the process of posting job openings\, searching for qualified candidates\, and leveraging the platform’s resources to meet their workforce needs. \nThe workshop also covers best practices for improving job matches\, utilizing the platform’s filtering options\, and ensuring an optimal experience for both employers and job seekers. \nParticipants will leave the workshop with actionable knowledge on how to navigate the platform efficiently\, optimize their profiles or job postings\, and effectively use Work In Texas to achieve their employment or hiring goals. \nNotice: All Participants Must Register @ www.workintexas.com Prior To Attending Seminars. \nAll workshop times and dates are subject to change.
URL:https://www.wfsdallas.com/event/mastering-work-in-texas-7-2-2/2026-04-30/
LOCATION:Greenville Workforce Center\, 6500 Greenville Ave.\, Ste. 250\, Dallas\, TX\, 75206
CATEGORIES:Greenville Avenue Workforce Center,Workshops
ATTACH;FMTTYPE=image/jpeg:https://www.wfsdallas.com/wp-content/uploads/WFSDallas-Workshops-5.jpg
END:VEVENT
END:VCALENDAR