BEGIN:VCALENDAR
VERSION:2.0
PRODID:-//Workforce Solutions Greater Dallas - ECPv6.15.17.1//NONSGML v1.0//EN
CALSCALE:GREGORIAN
METHOD:PUBLISH
X-ORIGINAL-URL:https://www.wfsdallas.com
X-WR-CALDESC:Events for Workforce Solutions Greater Dallas
REFRESH-INTERVAL;VALUE=DURATION:PT1H
X-Robots-Tag:noindex
X-PUBLISHED-TTL:PT1H
BEGIN:VTIMEZONE
TZID:UTC
BEGIN:STANDARD
TZOFFSETFROM:+0000
TZOFFSETTO:+0000
TZNAME:UTC
DTSTART:20230101T000000
END:STANDARD
END:VTIMEZONE
BEGIN:VEVENT
DTSTART;TZID=UTC:20241016T120000
DTEND;TZID=UTC:20241016T150000
DTSTAMP:20260424T055622
CREATED:20241014T202403Z
LAST-MODIFIED:20241014T202403Z
UID:10019336-1729080000-1729090800@www.wfsdallas.com
SUMMARY:Pregis - Walk-In Interviews
DESCRIPTION:Bring your resume!! Interviews will be held On-Site!\nDate: Wednesday – October 16\, 2024 \nTime: 12:00 p.m. – 3:00 p.m. \nLocation: 2901 W Kingsley Rd.\, Garland\, Texas 75041 \nWe will be interviewig for: \nMaterial Handlers \nMachine Operators \nMaintenance Technicians
URL:https://www.wfsdallas.com/event/pregis-walk-in-interviews/
LOCATION:Pregis\, 2901 W Kingsley Rd\, Garland\, TX\, 75041\, United States
CATEGORIES:Job Fairs,Jobseeker Events
ATTACH;FMTTYPE=application/pdf:https://www.wfsdallas.com/wp-content/uploads/WALK-IN-WEDNESDAY-Flyer-10-16-24.-1-1.pdf
END:VEVENT
END:VCALENDAR