BEGIN:VCALENDAR
VERSION:2.0
PRODID:-//Workforce Solutions Greater Dallas - ECPv6.15.17.1//NONSGML v1.0//EN
CALSCALE:GREGORIAN
METHOD:PUBLISH
X-ORIGINAL-URL:https://www.wfsdallas.com
X-WR-CALDESC:Events for Workforce Solutions Greater Dallas
REFRESH-INTERVAL;VALUE=DURATION:PT1H
X-Robots-Tag:noindex
X-PUBLISHED-TTL:PT1H
BEGIN:VTIMEZONE
TZID:UTC
BEGIN:STANDARD
TZOFFSETFROM:+0000
TZOFFSETTO:+0000
TZNAME:UTC
DTSTART:20230101T000000
END:STANDARD
END:VTIMEZONE
BEGIN:VEVENT
DTSTART;TZID=UTC:20241024T160000
DTEND;TZID=UTC:20241024T180000
DTSTAMP:20260423T215435
CREATED:20241018T173329Z
LAST-MODIFIED:20241018T173330Z
UID:10019342-1729785600-1729792800@www.wfsdallas.com
SUMMARY:Quest Job Fair
DESCRIPTION:BRING YOUR RESUME! INTERVIEWS ON-SITE!\nHiring for the following positions: \nMachine Operators \nAssembly Associates \nGeneral Labor \nQuality Lead \nLoader/Stager \nWhen: \nOctober 23\, 2024 – 12:00 p.m. – 2:00 p.m. \nOctober 24\, 2024 – 4:00 p.m. – 6:00 p.m. \nWhere: \n1720 S. Jupiter Rd\, Garland\, TX 75042
URL:https://www.wfsdallas.com/event/quest-job-fair/2024-10-24/
LOCATION:Quest Windows\, 1720 South Jupiter Road\, Garland\, TX\, 75042\, United States
CATEGORIES:Job Fairs,Jobseeker Events
ATTACH;FMTTYPE=application/pdf:https://www.wfsdallas.com/wp-content/uploads/Job-Fair-Flyer.pdf
END:VEVENT
BEGIN:VEVENT
DTSTART;TZID=UTC:20241023T120000
DTEND;TZID=UTC:20241023T140000
DTSTAMP:20260423T215435
CREATED:20241018T173329Z
LAST-MODIFIED:20241018T173330Z
UID:10019341-1729684800-1729692000@www.wfsdallas.com
SUMMARY:Quest Job Fair
DESCRIPTION:BRING YOUR RESUME! INTERVIEWS ON-SITE!\nHiring for the following positions: \nMachine Operators \nAssembly Associates \nGeneral Labor \nQuality Lead \nLoader/Stager \nWhen: \nOctober 23\, 2024 – 12:00 p.m. – 2:00 p.m. \nOctober 24\, 2024 – 4:00 p.m. – 6:00 p.m. \nWhere: \n1720 S. Jupiter Rd\, Garland\, TX 75042
URL:https://www.wfsdallas.com/event/quest-job-fair/2024-10-23/
LOCATION:Quest Windows\, 1720 South Jupiter Road\, Garland\, TX\, 75042\, United States
CATEGORIES:Job Fairs,Jobseeker Events
ATTACH;FMTTYPE=application/pdf:https://www.wfsdallas.com/wp-content/uploads/Job-Fair-Flyer.pdf
END:VEVENT
END:VCALENDAR