BEGIN:VCALENDAR
VERSION:2.0
PRODID:-//Workforce Solutions Greater Dallas - ECPv6.15.17.1//NONSGML v1.0//EN
CALSCALE:GREGORIAN
METHOD:PUBLISH
X-ORIGINAL-URL:https://www.wfsdallas.com
X-WR-CALDESC:Events for Workforce Solutions Greater Dallas
REFRESH-INTERVAL;VALUE=DURATION:PT1H
X-Robots-Tag:noindex
X-PUBLISHED-TTL:PT1H
BEGIN:VTIMEZONE
TZID:UTC
BEGIN:STANDARD
TZOFFSETFROM:+0000
TZOFFSETTO:+0000
TZNAME:UTC
DTSTART:20250101T000000
END:STANDARD
END:VTIMEZONE
BEGIN:VEVENT
DTSTART;TZID=UTC:20260224T100000
DTEND;TZID=UTC:20260224T140000
DTSTAMP:20260422T022058
CREATED:20260223T201226Z
LAST-MODIFIED:20260223T201226Z
UID:10043783-1771927200-1771941600@www.wfsdallas.com
SUMMARY:Sodexo Live Job Fair
DESCRIPTION:Open Positions: \n\nPremium Bartenders\nPremium Barbacks\nPremium Cooks\nConcierge\nPorter\nPremium F&B Attendant\nPremium Utility Workers\nPremium F&B Runners\nAppearance Care Ambassador\nKitchen Supervisor\n\nLearn more about the positions Here
URL:https://www.wfsdallas.com/event/sodexo-live-job-fair/
LOCATION:SpringHill Suites by Marriott Dallas DFW Airport\, 5800 High Point Dr\, Irving\, Texas\, 75038\, United States
CATEGORIES:Job Fairs,Jobseeker Events
ATTACH;FMTTYPE=application/pdf:https://www.wfsdallas.com/wp-content/uploads/022425-Sodexo-Job-Fair-Flyer.pdf
END:VEVENT
END:VCALENDAR